BEGIN:VCALENDAR
VERSION:2.0
PRODID:-//hacksw/handcal//NONSGML v1.0//EN
BEGIN:VEVENT
DTSTAMP:20240705T160000Z
DTSTART:20240705T160000Z
DTEND:20240705T160000Z
SUMMARY:Rathausfest Aumühle
END:VEVENT
END:VCALENDAR
