BEGIN:VCALENDAR
VERSION:2.0
PRODID:-//hacksw/handcal//NONSGML v1.0//EN
BEGIN:VEVENT
DTSTAMP:20240628T150000Z
DTSTART:20240628T150000Z
DTEND:20240628T150000Z
SUMMARY:"Talk am See" mit Jens Spahn MdB
END:VEVENT
END:VCALENDAR
