BEGIN:VCALENDAR
VERSION:2.0
PRODID:-//hacksw/handcal//NONSGML v1.0//EN
BEGIN:VEVENT
DTSTAMP:20240628T083000Z
DTSTART:20240628T083000Z
DTEND:20240628T083000Z
SUMMARY:Offizielle Eröffnung Sportabzeichen-Tag in Geesthacht
END:VEVENT
END:VCALENDAR
