BEGIN:VCALENDAR
VERSION:2.0
PRODID:-//hacksw/handcal//NONSGML v1.0//EN
BEGIN:VEVENT
DTSTAMP:20240627T163000Z
DTSTART:20240627T163000Z
DTEND:20240627T163000Z
SUMMARY:LSV und KSV laden zum Sportabzeichen-Tag ein
END:VEVENT
END:VCALENDAR
