BEGIN:VCALENDAR
VERSION:2.0
PRODID:-//hacksw/handcal//NONSGML v1.0//EN
BEGIN:VEVENT
DTSTAMP:20240618T170000Z
DTSTART:20240618T170000Z
DTEND:20240618T170000Z
SUMMARY:FördeForum CDU-Landtagsfraktion: NATO
END:VEVENT
END:VCALENDAR
