BEGIN:VCALENDAR
VERSION:2.0
PRODID:-//hacksw/handcal//NONSGML v1.0//EN
BEGIN:VEVENT
DTSTAMP:20240618T110000Z
DTSTART:20240618T110000Z
DTEND:20240618T110000Z
SUMMARY:GAK Soziales
END:VEVENT
END:VCALENDAR
