BEGIN:VCALENDAR
VERSION:2.0
PRODID:-//hacksw/handcal//NONSGML v1.0//EN
BEGIN:VEVENT
DTSTAMP:20240614T150000Z
DTSTART:20240614T150000Z
DTEND:20240614T150000Z
SUMMARY:Ausschuß "Zusammenarbeit Schleswig-Holstein und Hamburg"
END:VEVENT
END:VCALENDAR
