BEGIN:VCALENDAR
VERSION:2.0
PRODID:-//hacksw/handcal//NONSGML v1.0//EN
BEGIN:VEVENT
DTSTAMP:20240612T160000Z
DTSTART:20240612T160000Z
DTEND:20240612T190000Z
LOCATION:Kiel, Deutschland
SUMMARY:Besuch des Sommerfestes des Erzbistum Hamburg
END:VEVENT
END:VCALENDAR
