BEGIN:VCALENDAR
VERSION:2.0
PRODID:-//hacksw/handcal//NONSGML v1.0//EN
BEGIN:VEVENT
DTSTAMP:20240611T090000Z
DTSTART:20240611T090000Z
DTEND:20240611T100000Z
LOCATION:Landeshaus, Kiel, Deutschland
SUMMARY:GAK Zusammenarbeit der Länder SH und HH
END:VEVENT
END:VCALENDAR
