BEGIN:VCALENDAR
VERSION:2.0
PRODID:-//hacksw/handcal//NONSGML v1.0//EN
BEGIN:VEVENT
DTSTAMP:20240610T160000Z
DTSTART:20240610T160000Z
DTEND:20240610T170000Z
SUMMARY:Kreisvorstandssitzung CDU Herzogtum Lauenburg
END:VEVENT
END:VCALENDAR
