BEGIN:VCALENDAR
VERSION:2.0
PRODID:-//hacksw/handcal//NONSGML v1.0//EN
BEGIN:VEVENT
DTSTAMP:20240606T170000Z
DTSTART:20240606T170000Z
DTEND:20240606T200000Z
LOCATION:Domäne Steinhorst, Steinhorst, Deutschland
SUMMARY:Besuch des Kreisbauerntages Herzogtum Lauenburg
END:VEVENT
END:VCALENDAR
