BEGIN:VCALENDAR
VERSION:2.0
PRODID:-//hacksw/handcal//NONSGML v1.0//EN
BEGIN:VEVENT
DTSTAMP:20240606T093000Z
DTSTART:20240606T093000Z
DTEND:20240606T113000Z
LOCATION:Landeshaus, Kiel, Deutschland
SUMMARY:Gemeinsamer Arbeitskreis Soziales
END:VEVENT
END:VCALENDAR
