BEGIN:VCALENDAR
VERSION:2.0
PRODID:-//hacksw/handcal//NONSGML v1.0//EN
BEGIN:VEVENT
DTSTAMP:20240604T080000Z
DTSTART:20240604T080000Z
DTEND:20240604T100000Z
LOCATION:Landeshaus, Kiel, Deutschland
SUMMARY:Sitzung des Fraktionsvorstandes
END:VEVENT
END:VCALENDAR
