BEGIN:VCALENDAR
VERSION:2.0
PRODID:-//hacksw/handcal//NONSGML v1.0//EN
BEGIN:VEVENT
DTSTAMP:20240603T080000Z
DTSTART:20240603T080000Z
DTEND:20240603T100000Z
SUMMARY:Besuch  des Elbschifffahrtsarchiv in Lauenburg
END:VEVENT
END:VCALENDAR
