BEGIN:VCALENDAR
VERSION:2.0
PRODID:-//hacksw/handcal//NONSGML v1.0//EN
BEGIN:VEVENT
DTSTAMP:20240602T093000Z
DTSTART:20240602T093000Z
DTEND:20240602T113000Z
SUMMARY:Teilnahme am Königsfrühstück der Schützengilde Sachsenwald
END:VEVENT
END:VCALENDAR
