BEGIN:VCALENDAR
VERSION:2.0
PRODID:-//hacksw/handcal//NONSGML v1.0//EN
BEGIN:VEVENT
DTSTAMP:20240522T160000Z
DTSTART:20240522T160000Z
DTEND:20240522T200000Z
SUMMARY:6. Maritimer Parlamentarischer Abend der IHK
END:VEVENT
END:VCALENDAR
