BEGIN:VCALENDAR
VERSION:2.0
PRODID:-//hacksw/handcal//NONSGML v1.0//EN
BEGIN:VEVENT
DTSTAMP:20240522T111500Z
DTSTART:20240522T111500Z
DTEND:20240522T124500Z
SUMMARY:Parl. Imbiss-Kurzvorträge Energieversorgung in SH
END:VEVENT
END:VCALENDAR
