BEGIN:VCALENDAR
VERSION:2.0
PRODID:-//hacksw/handcal//NONSGML v1.0//EN
BEGIN:VEVENT
DTSTAMP:20240521T170000Z
DTSTART:20240521T170000Z
DTEND:20240521T200000Z
SUMMARY:Verleihung des Demokratiepreises SH an Bundespräsident a.d. Joachim Gauck
END:VEVENT
END:VCALENDAR
