BEGIN:VCALENDAR
VERSION:2.0
PRODID:-//hacksw/handcal//NONSGML v1.0//EN
BEGIN:VEVENT
DTSTAMP:20240521T110000Z
DTSTART:20240521T110000Z
DTEND:20240521T120000Z
SUMMARY:Gemeinsamer Abreitskreis Soziales
END:VEVENT
END:VCALENDAR
