BEGIN:VCALENDAR
VERSION:2.0
PRODID:-//hacksw/handcal//NONSGML v1.0//EN
BEGIN:VEVENT
DTSTAMP:20240516T170000Z
DTSTART:20240516T170000Z
DTEND:20240516T193000Z
SUMMARY:Besuch der Mitgliederversammlung WV Geesthacht
END:VEVENT
END:VCALENDAR
