BEGIN:VCALENDAR
VERSION:2.0
PRODID:-//hacksw/handcal//NONSGML v1.0//EN
BEGIN:VEVENT
DTSTAMP:20240516T083000Z
DTSTART:20240516T083000Z
DTEND:20240516T150000Z
SUMMARY:Gemeinsamer Abreitskreis Soziales
END:VEVENT
END:VCALENDAR
