BEGIN:VCALENDAR
VERSION:2.0
PRODID:-//hacksw/handcal//NONSGML v1.0//EN
BEGIN:VEVENT
DTSTAMP:20240515T110000Z
DTSTART:20240515T110000Z
DTEND:20240515T120000Z
SUMMARY:Fraktionsarbeitskreis "Soziales"- Besuch der DRK-Akademie in Kiel
END:VEVENT
END:VCALENDAR
