BEGIN:VCALENDAR
VERSION:2.0
PRODID:-//hacksw/handcal//NONSGML v1.0//EN
BEGIN:VEVENT
DTSTAMP:20240513T164500Z
DTSTART:20240513T164500Z
DTEND:20240513T164500Z
SUMMARY:CDU-Kreisvorstandssitzung
END:VEVENT
END:VCALENDAR
