BEGIN:VCALENDAR
VERSION:2.0
PRODID:-//hacksw/handcal//NONSGML v1.0//EN
BEGIN:VEVENT
DTSTAMP:20240502T120000Z
DTSTART:20240502T120000Z
DTEND:20240502T120000Z
SUMMARY:Sozialausschuss Landtag (u.a. Anhörung Kinderarmut)
END:VEVENT
END:VCALENDAR
