BEGIN:VCALENDAR
VERSION:2.0
PRODID:-//hacksw/handcal//NONSGML v1.0//EN
BEGIN:VEVENT
DTSTAMP:20240420T220000Z
DTSTART:20240420T220000Z
DTEND:20240423T220000Z
SUMMARY:Sozialausschuss Landtag: Informationsreise nach Arhus
END:VEVENT
END:VCALENDAR
