BEGIN:VCALENDAR
VERSION:2.0
PRODID:-//hacksw/handcal//NONSGML v1.0//EN
BEGIN:VEVENT
DTSTAMP:20240420T080000Z
DTSTART:20240420T080000Z
DTEND:20240421T150000Z
SUMMARY:Gewerbe- und Ehrenamtsmesse in Lauenburg
END:VEVENT
END:VCALENDAR
