BEGIN:VCALENDAR
VERSION:2.0
PRODID:-//hacksw/handcal//NONSGML v1.0//EN
BEGIN:VEVENT
DTSTAMP:20240330T100000Z
DTSTART:20240330T100000Z
DTEND:20240330T100000Z
SUMMARY:Gedenkveranstaltung zum 125. Todestag Bismarcks
END:VEVENT
END:VCALENDAR
