BEGIN:VCALENDAR
VERSION:2.0
PRODID:-//hacksw/handcal//NONSGML v1.0//EN
BEGIN:VEVENT
DTSTAMP:20240326T180000Z
DTSTART:20240326T180000Z
DTEND:20240326T180000Z
SUMMARY:Veranstaltung Parlamentarische Gesellschaft S-H mit Bezug zur Europawahl
END:VEVENT
END:VCALENDAR
