BEGIN:VCALENDAR
VERSION:2.0
PRODID:-//hacksw/handcal//NONSGML v1.0//EN
BEGIN:VEVENT
DTSTAMP:20240326T100000Z
DTSTART:20240326T100000Z
DTEND:20240326T100000Z
SUMMARY:Eröffnung des "Stappenbeck" (Bücherei, Archiv, Stadtcafé)
END:VEVENT
END:VCALENDAR
