BEGIN:VCALENDAR
VERSION:2.0
PRODID:-//hacksw/handcal//NONSGML v1.0//EN
BEGIN:VEVENT
DTSTAMP:20240323T140000Z
DTSTART:20240323T140000Z
DTEND:20240323T140000Z
SUMMARY:CDU-Kreisverband Herzogtum Lauenburg: Mitgliederehrung
END:VEVENT
END:VCALENDAR
