BEGIN:VCALENDAR
VERSION:2.0
PRODID:-//hacksw/handcal//NONSGML v1.0//EN
BEGIN:VEVENT
DTSTAMP:20240321T190000Z
DTSTART:20240321T190000Z
DTEND:20240321T190000Z
SUMMARY:Mitgliederversammlung CDU OV Kröppelshagen-Fahrendorf
END:VEVENT
END:VCALENDAR
