BEGIN:VCALENDAR
VERSION:2.0
PRODID:-//hacksw/handcal//NONSGML v1.0//EN
BEGIN:VEVENT
DTSTAMP:20240318T173000Z
DTSTART:20240318T173000Z
DTEND:20240318T173000Z
SUMMARY:Mitgliederversammlung CDU OV Schwarzenbek
END:VEVENT
END:VCALENDAR
