BEGIN:VCALENDAR
VERSION:2.0
PRODID:-//hacksw/handcal//NONSGML v1.0//EN
BEGIN:VEVENT
DTSTAMP:20240317T120000Z
DTSTART:20240317T120000Z
DTEND:20240317T120000Z
SUMMARY:Gemeinsames Boßeln, CDU OV Gülzow
END:VEVENT
END:VCALENDAR
