BEGIN:VCALENDAR
VERSION:2.0
PRODID:-//hacksw/handcal//NONSGML v1.0//EN
BEGIN:VEVENT
DTSTAMP:20240315T090000Z
DTSTART:20240315T090000Z
DTEND:20240315T090000Z
SUMMARY:FAK Soziales: Fachgespräch Kinder- und Jugendgewalt
END:VEVENT
END:VCALENDAR
