BEGIN:VCALENDAR
VERSION:2.0
PRODID:-//hacksw/handcal//NONSGML v1.0//EN
BEGIN:VEVENT
DTSTAMP:20240313T120000Z
DTSTART:20240313T120000Z
DTEND:20240313T143000Z
SUMMARY:Gemeinsamer Abreitskreis Soziales 
END:VEVENT
END:VCALENDAR
