BEGIN:VCALENDAR
VERSION:2.0
PRODID:-//hacksw/handcal//NONSGML v1.0//EN
BEGIN:VEVENT
DTSTAMP:20240307T173000Z
DTSTART:20240307T173000Z
DTEND:20240307T210000Z
LOCATION:SmuX Werkstatt, Geesthacht, Deutschland
SUMMARY:Mitgliederversammlung der CDU Geesthacht
END:VEVENT
END:VCALENDAR
