BEGIN:VCALENDAR
VERSION:2.0
PRODID:-//hacksw/handcal//NONSGML v1.0//EN
BEGIN:VEVENT
DTSTAMP:20240307T130000Z
DTSTART:20240307T130000Z
DTEND:20240307T170000Z
LOCATION:Landeshaus, Kiel, Deutschland
SUMMARY:Sitzung des Sozialsauschuss des Landtages
END:VEVENT
END:VCALENDAR
