BEGIN:VCALENDAR
VERSION:2.0
PRODID:-//hacksw/handcal//NONSGML v1.0//EN
BEGIN:VEVENT
DTSTAMP:20240307T090000Z
DTSTART:20240307T090000Z
DTEND:20240307T103000Z
LOCATION:Landeshaus, Kiel, Deutschland
SUMMARY:Fraktionsarbeitskreis Soziales
END:VEVENT
END:VCALENDAR
