BEGIN:VCALENDAR
VERSION:2.0
PRODID:-//hacksw/handcal//NONSGML v1.0//EN
BEGIN:VEVENT
DTSTAMP:20240306T100000Z
DTSTART:20240306T100000Z
DTEND:20240306T120000Z
LOCATION:Landeshaus, Kiel, Deutschland
SUMMARY:Gespräch mit Vertretern des SHGT
END:VEVENT
END:VCALENDAR
