BEGIN:VCALENDAR
VERSION:2.0
PRODID:-//hacksw/handcal//NONSGML v1.0//EN
BEGIN:VEVENT
DTSTAMP:20240304T090000Z
DTSTART:20240304T090000Z
DTEND:20240305T110000Z
SUMMARY:Büro "Kleine Lage" mit den Mitarbeitern
END:VEVENT
END:VCALENDAR
