BEGIN:VCALENDAR
VERSION:2.0
PRODID:-//hacksw/handcal//NONSGML v1.0//EN
BEGIN:VEVENT
DTSTAMP:20240303T100000Z
DTSTART:20240303T100000Z
DTEND:20240303T133000Z
LOCATION:St. Michael, Schwarzenbek, Deutschland
SUMMARY:Besuch Gottesdienst
END:VEVENT
END:VCALENDAR
