BEGIN:VCALENDAR
VERSION:2.0
PRODID:-//hacksw/handcal//NONSGML v1.0//EN
BEGIN:VEVENT
DTSTAMP:20240301T090000Z
DTSTART:20240301T090000Z
DTEND:20240301T130000Z
SUMMARY:Gespräche im Wahlkreis
END:VEVENT
END:VCALENDAR
