BEGIN:VCALENDAR
VERSION:2.0
PRODID:-//hacksw/handcal//NONSGML v1.0//EN
BEGIN:VEVENT
DTSTAMP:20240223T090000Z
DTSTART:20240223T090000Z
DTEND:20240223T140000Z
LOCATION:Landeshaus, Kiel, Deutschland
SUMMARY:Plenartagung des Schlewig-Holsteinischen Landtages
END:VEVENT
END:VCALENDAR
