BEGIN:VCALENDAR
VERSION:2.0
PRODID:-//hacksw/handcal//NONSGML v1.0//EN
BEGIN:VEVENT
DTSTAMP:20240220T170000Z
DTSTART:20240220T170000Z
DTEND:20240220T203000Z
LOCATION:Landeshaus, Kiel, Deutschland
SUMMARY:"Taiwan-Abend" der CDU Landtagsfraktion
END:VEVENT
END:VCALENDAR
