BEGIN:VCALENDAR
VERSION:2.0
PRODID:-//hacksw/handcal//NONSGML v1.0//EN
BEGIN:VEVENT
DTSTAMP:20240206T090000Z
DTSTART:20240206T090000Z
DTEND:20240206T090000Z
SUMMARY:FAK Soziales: Gespräch mit der TKK
END:VEVENT
END:VCALENDAR
