BEGIN:VCALENDAR
VERSION:2.0
PRODID:-//hacksw/handcal//NONSGML v1.0//EN
BEGIN:VEVENT
DTSTAMP:20240205T120000Z
DTSTART:20240205T120000Z
DTEND:20240205T120000Z
SUMMARY:FAK Soziales: Besuch Cannabisplantage
END:VEVENT
END:VCALENDAR
