BEGIN:VCALENDAR
VERSION:2.0
PRODID:-//hacksw/handcal//NONSGML v1.0//EN
BEGIN:VEVENT
DTSTAMP:20240126T080000Z
DTSTART:20240126T080000Z
DTEND:20240126T080000Z
SUMMARY:Zentrale Gedenkfeier für die Opfer des Nationalsozialismus
END:VEVENT
END:VCALENDAR
