BEGIN:VCALENDAR
VERSION:2.0
PRODID:-//hacksw/handcal//NONSGML v1.0//EN
BEGIN:VEVENT
DTSTAMP:20240124T173000Z
DTSTART:20240124T173000Z
DTEND:20240124T173000Z
SUMMARY:Parlamentarischer Abend des Unternehmensverbads Unterelbe-Westküste
END:VEVENT
END:VCALENDAR
