BEGIN:VCALENDAR
VERSION:2.0
PRODID:-//hacksw/handcal//NONSGML v1.0//EN
BEGIN:VEVENT
DTSTAMP:20231122T090000Z
DTSTART:20231122T090000Z
DTEND:20231122T090000Z
SUMMARY:Plenartagung
END:VEVENT
END:VCALENDAR
