BEGIN:VCALENDAR
VERSION:2.0
PRODID:-//hacksw/handcal//NONSGML v1.0//EN
BEGIN:VEVENT
DTSTAMP:20231116T083000Z
DTSTART:20231116T083000Z
DTEND:20231116T083000Z
SUMMARY:GAK Soziales: Haushalt 2024
END:VEVENT
END:VCALENDAR
